BEGIN:VCALENDAR
VERSION:2.0
PRODID:-//Federació Catalana d&#039;Esports d&#039;Hivern - ECPv5.1.4//NONSGML v1.0//EN
CALSCALE:GREGORIAN
METHOD:PUBLISH
X-WR-CALNAME:Federació Catalana d&#039;Esports d&#039;Hivern
X-ORIGINAL-URL:https://www.fceh.cat
X-WR-CALDESC:Events for Federació Catalana d&#039;Esports d&#039;Hivern
BEGIN:VTIMEZONE
TZID:UTC
BEGIN:STANDARD
TZOFFSETFROM:+0000
TZOFFSETTO:+0000
TZNAME:UTC
DTSTART:20180101T000000
END:STANDARD
END:VTIMEZONE
BEGIN:VEVENT
DTSTART;VALUE=DATE:20180203
DTEND;VALUE=DATE:20180205
DTSTAMP:20260421T105207
CREATED:20171107T084357Z
LAST-MODIFIED:20180129T115813Z
UID:11307-1517616000-1517788799@www.fceh.cat
SUMMARY:14è TROFEU VILA DE LLÍVIA
DESCRIPTION: \nNota Inf. 14è Trofeu Vila de Llívia \n  \n 
URL:https://www.fceh.cat/esdeveniment/14e-trofeu-vila-de-llivia/
LOCATION:MASELLA\, Av. Peu de Pistes s|n\, ALP-MASELLA\, GIRONA\, 17538\, Espanya
CATEGORIES:Esports de neu,Esquí alpí
ORGANIZER;CN="LLIVIA":MAILTO:administracio@esquillivia.com
END:VEVENT
END:VCALENDAR