BEGIN:VCALENDAR
VERSION:2.0
PRODID:-//Federació Catalana d&#039;Esports d&#039;Hivern - ECPv5.1.4//NONSGML v1.0//EN
CALSCALE:GREGORIAN
METHOD:PUBLISH
X-WR-CALNAME:Federació Catalana d&#039;Esports d&#039;Hivern
X-ORIGINAL-URL:https://www.fceh.cat
X-WR-CALDESC:Events for Federació Catalana d&#039;Esports d&#039;Hivern
BEGIN:VTIMEZONE
TZID:UTC
BEGIN:STANDARD
TZOFFSETFROM:+0000
TZOFFSETTO:+0000
TZNAME:UTC
DTSTART:20260101T000000
END:STANDARD
END:VTIMEZONE
BEGIN:VEVENT
DTSTART;VALUE=DATE:20260307
DTEND;VALUE=DATE:20260308
DTSTAMP:20260421T085841
CREATED:20251127T083336Z
LAST-MODIFIED:20260227T101654Z
UID:30087-1772841600-1772927999@www.fceh.cat
SUMMARY:1r Trofeu MEGANEU by BMW OLIVA MOTOR GIRONA
DESCRIPTION: \n  \nInfo 1r Trofeu MEGANEU by BMW OLIVA MOTOR GIRONA \n 
URL:https://www.fceh.cat/esdeveniment/1r-trofeu-meganeu-by-mbw-olivia-motor-girona/
LOCATION:La Molina\, Edifici Telecabina Alp 2500 s/n\, Alp\, Girona\, 17537\, Espanya
ORGANIZER;CN="MEGA":MAILTO:INFO@MEGANEU.COM
END:VEVENT
END:VCALENDAR