BEGIN:VCALENDAR
VERSION:2.0
PRODID:-//Federació Catalana d&#039;Esports d&#039;Hivern - ECPv5.1.4//NONSGML v1.0//EN
CALSCALE:GREGORIAN
METHOD:PUBLISH
X-WR-CALNAME:Federació Catalana d&#039;Esports d&#039;Hivern
X-ORIGINAL-URL:https://www.fceh.cat
X-WR-CALDESC:Events for Federació Catalana d&#039;Esports d&#039;Hivern
BEGIN:VTIMEZONE
TZID:UTC
BEGIN:STANDARD
TZOFFSETFROM:+0000
TZOFFSETTO:+0000
TZNAME:UTC
DTSTART:20170101T000000
END:STANDARD
END:VTIMEZONE
BEGIN:VEVENT
DTSTART;VALUE=DATE:20170121
DTEND;VALUE=DATE:20170122
DTSTAMP:20260421T102806
CREATED:20161219T173909Z
LAST-MODIFIED:20170126T124142Z
UID:7050-1484956800-1485043199@www.fceh.cat
SUMMARY:20è PISTA! PISTA!
DESCRIPTION: \nConvocatòria 20è Pista! Pista! \nNotícies relacionades:\nEl circuit d’alevins aterra aquest cap de setmana al 20è Pista! Pista! i al 13è Trofeu Floquet de Neu \n \nProclamats els millors del 20è Trofeu Pista! Pista! a La Molina \n \n 
URL:https://www.fceh.cat/esdeveniment/20e-pista-pista/
LOCATION:La Molina\, Edifici Telecabina Alp 2500 s/n\, Alp\, Girona\, 17537\, Espanya
CATEGORIES:Esports de neu,Esquí alpí
ATTACH;FMTTYPE=image/jpeg:https://www.fceh.cat/wp-content/uploads/2016/10/Alpí-mono-phenix-1.jpg
ORGANIZER;CN="LMCE":MAILTO:secretaria@lamolinace.cat
END:VEVENT
END:VCALENDAR