BEGIN:VCALENDAR
VERSION:2.0
PRODID:-//Federació Catalana d&#039;Esports d&#039;Hivern - ECPv5.1.4//NONSGML v1.0//EN
CALSCALE:GREGORIAN
METHOD:PUBLISH
X-WR-CALNAME:Federació Catalana d&#039;Esports d&#039;Hivern
X-ORIGINAL-URL:https://www.fceh.cat
X-WR-CALDESC:Events for Federació Catalana d&#039;Esports d&#039;Hivern
BEGIN:VTIMEZONE
TZID:UTC
BEGIN:STANDARD
TZOFFSETFROM:+0000
TZOFFSETTO:+0000
TZNAME:UTC
DTSTART:20260101T000000
END:STANDARD
END:VTIMEZONE
BEGIN:VEVENT
DTSTART;VALUE=DATE:20260328
DTEND;VALUE=DATE:20260329
DTSTAMP:20260421T153221
CREATED:20251202T091210Z
LAST-MODIFIED:20251202T091210Z
UID:30212-1774656000-1774742399@www.fceh.cat
SUMMARY:25è TROFEU MARMOTA
DESCRIPTION: \n 
URL:https://www.fceh.cat/esdeveniment/25e-trofeu-marmota/
LOCATION:VALLTER 2000\, Pla de Morens\, s/n\, SETCASES\, GIRONA\, 17869\, Espanya
CATEGORIES:CIRCUIT U10 | U12,CIRCUIT U10 | U12 RRTT GIRONA/BCN,Esports de neu,Esquí alpí
ORGANIZER;CN="SCC":MAILTO:secretaria@skiclubcamprodon.org
END:VEVENT
END:VCALENDAR