BEGIN:VCALENDAR
VERSION:2.0
PRODID:-//Federació Catalana d&#039;Esports d&#039;Hivern - ECPv5.1.4//NONSGML v1.0//EN
CALSCALE:GREGORIAN
METHOD:PUBLISH
X-WR-CALNAME:Federació Catalana d&#039;Esports d&#039;Hivern
X-ORIGINAL-URL:https://www.fceh.cat
X-WR-CALDESC:Events for Federació Catalana d&#039;Esports d&#039;Hivern
BEGIN:VTIMEZONE
TZID:UTC
BEGIN:STANDARD
TZOFFSETFROM:+0000
TZOFFSETTO:+0000
TZNAME:UTC
DTSTART:20260101T000000
END:STANDARD
END:VTIMEZONE
BEGIN:VEVENT
DTSTART;VALUE=DATE:20260307
DTEND;VALUE=DATE:20260308
DTSTAMP:20260421T172821
CREATED:20251202T091545Z
LAST-MODIFIED:20260227T101321Z
UID:30216-1772841600-1772927999@www.fceh.cat
SUMMARY:26a MARXA DE L'ARP - 5a Fase SNOWKIDS CUP - 13a MICRO ARP
DESCRIPTION: \nReglament Micro Pirineu 2026 \n 
URL:https://www.fceh.cat/esdeveniment/26a-marxa-de-larp-4a-fase-snowkids-cup-13a-micro-arp/
LOCATION:TUIXENT-LA VANSA\, Plaça Serra del Cadi\, 1\, TUIXENT\, LLEIDA\, 25717\, Espanya
CATEGORIES:14ª COPA NINS SNOWKIDS CUP,Esports de neu,Esquí de fons
ORGANIZER;CN="CENA":MAILTO:clubcena1@gmail.com
GEO:42.23121;1.5664499
X-APPLE-STRUCTURED-LOCATION;VALUE=URI;X-ADDRESS=TUIXENT-LA VANSA Plaça Serra del Cadi 1 TUIXENT LLEIDA 25717 Espanya;X-APPLE-RADIUS=500;X-TITLE=Plaça Serra del Cadi\, 1:geo:1.5664499,42.23121
END:VEVENT
END:VCALENDAR