BEGIN:VCALENDAR
VERSION:2.0
PRODID:-//Federació Catalana d&#039;Esports d&#039;Hivern - ECPv5.1.4//NONSGML v1.0//EN
CALSCALE:GREGORIAN
METHOD:PUBLISH
X-WR-CALNAME:Federació Catalana d&#039;Esports d&#039;Hivern
X-ORIGINAL-URL:https://www.fceh.cat
X-WR-CALDESC:Events for Federació Catalana d&#039;Esports d&#039;Hivern
BEGIN:VTIMEZONE
TZID:UTC
BEGIN:STANDARD
TZOFFSETFROM:+0000
TZOFFSETTO:+0000
TZNAME:UTC
DTSTART:20170101T000000
END:STANDARD
END:VTIMEZONE
BEGIN:VEVENT
DTSTART;VALUE=DATE:20170304
DTEND;VALUE=DATE:20170306
DTSTAMP:20260421T085618
CREATED:20161219T173618Z
LAST-MODIFIED:20170308T121841Z
UID:7044-1488585600-1488758399@www.fceh.cat
SUMMARY:26è TROFEU CLUB ESQUÍ TERRASSA
DESCRIPTION: \nConvocatòria 26è Trofeu Club Esquí Terrassa \nNotícies relacionades:\nLa Lliga Catalana d’Esquí Alpí aterra aquest cap de setmana a Masella\, Espot\, Baqueira i Ordino \n \nEls esquiadors de les categories U14 i U16 s’han donat cita aquest cap de setmana a Masella i Espot \n \n 
URL:https://www.fceh.cat/esdeveniment/26e-trofeu-club-esqui-terrassa/
LOCATION:MASELLA\, Av. Peu de Pistes s|n\, ALP-MASELLA\, GIRONA\, 17538\, Espanya
CATEGORIES:Esports de neu,Esquí alpí
ATTACH;FMTTYPE=image/jpeg:https://www.fceh.cat/wp-content/uploads/2016/12/Memorial-Adri-Tauler.jpg
ORGANIZER;CN="ALPCET":MAILTO:clubesquicet@gmail.com
END:VEVENT
END:VCALENDAR