BEGIN:VCALENDAR
VERSION:2.0
PRODID:-//Federació Catalana d&#039;Esports d&#039;Hivern - ECPv5.1.4//NONSGML v1.0//EN
CALSCALE:GREGORIAN
METHOD:PUBLISH
X-WR-CALNAME:Federació Catalana d&#039;Esports d&#039;Hivern
X-ORIGINAL-URL:https://www.fceh.cat
X-WR-CALDESC:Events for Federació Catalana d&#039;Esports d&#039;Hivern
BEGIN:VTIMEZONE
TZID:UTC
BEGIN:STANDARD
TZOFFSETFROM:+0000
TZOFFSETTO:+0000
TZNAME:UTC
DTSTART:20260101T000000
END:STANDARD
END:VTIMEZONE
BEGIN:VEVENT
DTSTART;VALUE=DATE:20260314
DTEND;VALUE=DATE:20260316
DTSTAMP:20260421T135711
CREATED:20251202T090822Z
LAST-MODIFIED:20260310T080517Z
UID:30206-1773446400-1773619199@www.fceh.cat
SUMMARY:33è CARGOL DE NEU | 10è Mem. Josep M Bosch Aymerich
DESCRIPTION: \n  \nInfo 33è Cargol de Neu – 10è Mem. Josep M Bosch Aymerich \n 
URL:https://www.fceh.cat/esdeveniment/33e-cargol-de-neu/
LOCATION:MASELLA\, Av. Peu de Pistes s|n\, ALP-MASELLA\, GIRONA\, 17538\, Espanya
CATEGORIES:CIRCUIT U10 | U12,CIRCUIT U10 | U12 RRTT GIRONA/BCN,Esports de neu,Esquí alpí
END:VEVENT
END:VCALENDAR