BEGIN:VCALENDAR
VERSION:2.0
PRODID:-//Federació Catalana d&#039;Esports d&#039;Hivern - ECPv5.1.4//NONSGML v1.0//EN
CALSCALE:GREGORIAN
METHOD:PUBLISH
X-WR-CALNAME:Federació Catalana d&#039;Esports d&#039;Hivern
X-ORIGINAL-URL:https://www.fceh.cat
X-WR-CALDESC:Events for Federació Catalana d&#039;Esports d&#039;Hivern
BEGIN:VTIMEZONE
TZID:UTC
BEGIN:STANDARD
TZOFFSETFROM:+0000
TZOFFSETTO:+0000
TZNAME:UTC
DTSTART:20260101T000000
END:STANDARD
END:VTIMEZONE
BEGIN:VEVENT
DTSTART;VALUE=DATE:20260307
DTEND;VALUE=DATE:20260308
DTSTAMP:20260421T170638
CREATED:20251202T090623Z
LAST-MODIFIED:20260223T104418Z
UID:30204-1772841600-1772927999@www.fceh.cat
SUMMARY:4t TROFEU DAINA AEP
DESCRIPTION: \nInfo 4t Trofeu Daina AEP \n 
URL:https://www.fceh.cat/esdeveniment/4t-trofeu-daina-aep/
LOCATION:PORT AINE\, Estació de Muntanya Cota 2000\, RIALP\, LLEIDA\, 25594\, Espanya
CATEGORIES:CIRCUIT U10 | U12,CIRCUIT U10 | U12 RRTT LLEIDA/TARRAGONA,Esports de neu,Esquí alpí
ATTACH;FMTTYPE=image/jpeg:https://www.fceh.cat/wp-content/uploads/2025/12/Cartell-4t-Trofeu-DAINA_page-0001-scaled.jpg
ORGANIZER;CN="AEP":MAILTO:info@aepallars.org
GEO:42.435018;1.210856
X-APPLE-STRUCTURED-LOCATION;VALUE=URI;X-ADDRESS=PORT AINE Estació de Muntanya Cota 2000 RIALP LLEIDA 25594 Espanya;X-APPLE-RADIUS=500;X-TITLE=Estació de Muntanya Cota 2000:geo:1.210856,42.435018
END:VEVENT
END:VCALENDAR