BEGIN:VCALENDAR
VERSION:2.0
PRODID:-//Federació Catalana d&#039;Esports d&#039;Hivern - ECPv5.1.4//NONSGML v1.0//EN
CALSCALE:GREGORIAN
METHOD:PUBLISH
X-WR-CALNAME:Federació Catalana d&#039;Esports d&#039;Hivern
X-ORIGINAL-URL:https://www.fceh.cat
X-WR-CALDESC:Events for Federació Catalana d&#039;Esports d&#039;Hivern
BEGIN:VTIMEZONE
TZID:UTC
BEGIN:STANDARD
TZOFFSETFROM:+0000
TZOFFSETTO:+0000
TZNAME:UTC
DTSTART:20170101T000000
END:STANDARD
END:VTIMEZONE
BEGIN:VEVENT
DTSTART;TZID=UTC:20170513T080000
DTEND;TZID=UTC:20170513T170000
DTSTAMP:20260421T102228
CREATED:20170405T114657Z
LAST-MODIFIED:20170405T114712Z
UID:10249-1494662400-1494694800@www.fceh.cat
SUMMARY:CAMPIONAT COPA DE ESPAÑA DE BALLET
DESCRIPTION: \nConvocatoria Ballet 2017 \n 
URL:https://www.fceh.cat/esdeveniment/campionat-copa-de-espana-de-ballet/
LOCATION:Pabellón de Hielo de Jaca\, Av. Perimetral\, s/n\, JACA\, HUESCA\, 22700\, Espanya
CATEGORIES:Esports de gel,Patinatge artístic
ORGANIZER;CN="FEDH":MAILTO:info@fedhielo.com
GEO:42.5660837;-0.5488767
X-APPLE-STRUCTURED-LOCATION;VALUE=URI;X-ADDRESS=Pabellón de Hielo de Jaca Av. Perimetral s/n JACA HUESCA 22700 Espanya;X-APPLE-RADIUS=500;X-TITLE=Av. Perimetral\, s/n:geo:-0.5488767,42.5660837
END:VEVENT
END:VCALENDAR