BEGIN:VCALENDAR
VERSION:2.0
PRODID:-//Federació Catalana d&#039;Esports d&#039;Hivern - ECPv5.1.4//NONSGML v1.0//EN
CALSCALE:GREGORIAN
METHOD:PUBLISH
X-WR-CALNAME:Federació Catalana d&#039;Esports d&#039;Hivern
X-ORIGINAL-URL:https://www.fceh.cat
X-WR-CALDESC:Events for Federació Catalana d&#039;Esports d&#039;Hivern
BEGIN:VTIMEZONE
TZID:UTC
BEGIN:STANDARD
TZOFFSETFROM:+0000
TZOFFSETTO:+0000
TZNAME:UTC
DTSTART:20170101T000000
END:STANDARD
END:VTIMEZONE
BEGIN:VEVENT
DTSTART;VALUE=DATE:20170324
DTEND;VALUE=DATE:20170327
DTSTAMP:20260421T102047
CREATED:20161220T155210Z
LAST-MODIFIED:20170418T154852Z
UID:7296-1490313600-1490572799@www.fceh.cat
SUMMARY:CAMPIONAT ESPANYA ALPÍ VETERANS
DESCRIPTION: \nConvocatòria Campionat Espanya Alpí Veterans \n  \n  \nNotícies relacionades\n31 corredors veterans en els Campionats d’Espanya Masters Memorial Carlos García \n \nCelebrats els Campionats d’Espanya Masters Memorial Carlos García \n \n  \n 
URL:https://www.fceh.cat/esdeveniment/campionat-espanya-alpi-veterans/
LOCATION:FORMIGAL-PANTICOSA\, Espanya
CATEGORIES:Esports de neu,Esquí alpí
ATTACH;FMTTYPE=image/jpeg:https://www.fceh.cat/wp-content/uploads/2016/10/160312_01_0439_ALBERT_ORTEGA.jpg
ORGANIZER;CN="RFEDI":MAILTO:rfedi@rfedi.es
GEO:40.463667;-3.74922
END:VEVENT
END:VCALENDAR