BEGIN:VCALENDAR
VERSION:2.0
PRODID:-//Federació Catalana d&#039;Esports d&#039;Hivern - ECPv5.1.4//NONSGML v1.0//EN
CALSCALE:GREGORIAN
METHOD:PUBLISH
X-WR-CALNAME:Federació Catalana d&#039;Esports d&#039;Hivern
X-ORIGINAL-URL:https://www.fceh.cat
X-WR-CALDESC:Events for Federació Catalana d&#039;Esports d&#039;Hivern
BEGIN:VTIMEZONE
TZID:UTC
BEGIN:STANDARD
TZOFFSETFROM:+0000
TZOFFSETTO:+0000
TZNAME:UTC
DTSTART:20220101T000000
END:STANDARD
END:VTIMEZONE
BEGIN:VEVENT
DTSTART;VALUE=DATE:20220305
DTEND;VALUE=DATE:20220307
DTSTAMP:20260421T085936
CREATED:20211006T111255Z
LAST-MODIFIED:20220223T153158Z
UID:24046-1646438400-1646611199@www.fceh.cat
SUMMARY:CAMPIONAT ESPANYA MÚIXING Sobre Neu 1/2 distància | Cancel·lada!!!
DESCRIPTION: \n 
URL:https://www.fceh.cat/esdeveniment/campionat-espanya-muixing-sobre-neu-1-2-distancia/
LOCATION:SANT JOAN DE L’ERM\, LLEIDA\, Espanya
CATEGORIES:Canicross,Esports de tracció,Trineu amb gossos
ORGANIZER;CN="GOS%20ARTIC":MAILTO:info@clubgosartic.cat
GEO:41.6175899;0.6200146
END:VEVENT
END:VCALENDAR