BEGIN:VCALENDAR
VERSION:2.0
PRODID:-//Federació Catalana d&#039;Esports d&#039;Hivern - ECPv5.1.4//NONSGML v1.0//EN
CALSCALE:GREGORIAN
METHOD:PUBLISH
X-WR-CALNAME:Federació Catalana d&#039;Esports d&#039;Hivern
X-ORIGINAL-URL:https://www.fceh.cat
X-WR-CALDESC:Events for Federació Catalana d&#039;Esports d&#039;Hivern
BEGIN:VTIMEZONE
TZID:UTC
BEGIN:STANDARD
TZOFFSETFROM:+0000
TZOFFSETTO:+0000
TZNAME:UTC
DTSTART:20170101T000000
END:STANDARD
END:VTIMEZONE
BEGIN:VEVENT
DTSTART;VALUE=DATE:20170408
DTEND;VALUE=DATE:20170410
DTSTAMP:20260421T104432
CREATED:20161220T155658Z
LAST-MODIFIED:20170418T160928Z
UID:7304-1491609600-1491782399@www.fceh.cat
SUMMARY:CAMPIONAT ESPANYA SNOWBOARD
DESCRIPTION: \nDissabte 8 d'abril:\n10 a 12 hores entrenaments lliures\n19:30 hores Reunió caps d'equip\, sala ETEVA\, 3a Planta Alberg Salardu\n\nDiumenge 9 d'abril:\nclassificatòries\nsèries\n\n• SBX\n• SX\n\nLliurament de Premis\n\n\nNotícies relacionades\nGrans resultats dels esportistes catalans en els Campionats d’Espanya d’esquí alpí i d’snowboard \n \nTot a punt a Espot per acollir els Campionats d’Espanya Absoluts d’Esquí Alpí \n \n \n 
URL:https://www.fceh.cat/esdeveniment/campionat-espanya-snowboard/
LOCATION:BAQUEIRA BERET\, Lugar Afores\, 0 S N\, SALARDÚ\, LLEIDA\, 25598\, Espanya
CATEGORIES:Esports de neu,Surf de neu
ORGANIZER;CN="RFEDI":MAILTO:rfedi@rfedi.es
END:VEVENT
END:VCALENDAR