BEGIN:VCALENDAR
VERSION:2.0
PRODID:-//Federació Catalana d&#039;Esports d&#039;Hivern - ECPv5.1.4//NONSGML v1.0//EN
CALSCALE:GREGORIAN
METHOD:PUBLISH
X-WR-CALNAME:Federació Catalana d&#039;Esports d&#039;Hivern
X-ORIGINAL-URL:https://www.fceh.cat
X-WR-CALDESC:Events for Federació Catalana d&#039;Esports d&#039;Hivern
BEGIN:VTIMEZONE
TZID:UTC
BEGIN:STANDARD
TZOFFSETFROM:+0000
TZOFFSETTO:+0000
TZNAME:UTC
DTSTART:20180101T000000
END:STANDARD
END:VTIMEZONE
BEGIN:VEVENT
DTSTART;VALUE=DATE:20181124
DTEND;VALUE=DATE:20181126
DTSTAMP:20260421T091405
CREATED:20181004T104627Z
LAST-MODIFIED:20181105T143519Z
UID:14294-1543017600-1543190399@www.fceh.cat
SUMMARY:CAMPIONAT ESPANYA sobre terra
DESCRIPTION: \nPrograma | Horaris \n 
URL:https://www.fceh.cat/esdeveniment/campionat-espanya-sobre-terra/
LOCATION:POLIENTES\, CANTABRIA\, Espanya
CATEGORIES:Canicross,Esports de tracció,Trineu amb gossos
ORGANIZER;CN="RFEDI":MAILTO:rfedi@rfedi.es
END:VEVENT
END:VCALENDAR