BEGIN:VCALENDAR
VERSION:2.0
PRODID:-//Federació Catalana d&#039;Esports d&#039;Hivern - ECPv5.1.4//NONSGML v1.0//EN
CALSCALE:GREGORIAN
METHOD:PUBLISH
X-WR-CALNAME:Federació Catalana d&#039;Esports d&#039;Hivern
X-ORIGINAL-URL:https://www.fceh.cat
X-WR-CALDESC:Events for Federació Catalana d&#039;Esports d&#039;Hivern
BEGIN:VTIMEZONE
TZID:UTC
BEGIN:STANDARD
TZOFFSETFROM:+0000
TZOFFSETTO:+0000
TZNAME:UTC
DTSTART:20260101T000000
END:STANDARD
END:VTIMEZONE
BEGIN:VEVENT
DTSTART;VALUE=DATE:20260221
DTEND;VALUE=DATE:20260223
DTSTAMP:20260421T170121
CREATED:20251201T082237Z
LAST-MODIFIED:20251201T082237Z
UID:30183-1771632000-1771804799@www.fceh.cat
SUMMARY:COPA PUIGCERDÀ | CAMPIONAT DE CATALUNYA
DESCRIPTION: \n 
URL:https://www.fceh.cat/esdeveniment/copa-puigcerda-campionat-de-catalunya/
LOCATION:Puigcerdà Centre d’Esports d’Hivern\, Plaça de l'Ajuntament\, s/n \, PUIGCERDÀ\, GIRONA\, 17520\, Espanya
CATEGORIES:34a LLIGA CATALANA PATINATGE,Patinatge artístic
ORGANIZER;CN="CEPAP":MAILTO:patinatgeartisticpuigcerda@gmail.com
GEO:42.4312329;1.9270081
X-APPLE-STRUCTURED-LOCATION;VALUE=URI;X-ADDRESS=Puigcerdà Centre d’Esports d’Hivern Plaça de l'Ajuntament s/n  PUIGCERDÀ GIRONA 17520 Espanya;X-APPLE-RADIUS=500;X-TITLE=Plaça de l'Ajuntament\, s/n:geo:1.9270081,42.4312329
END:VEVENT
END:VCALENDAR