BEGIN:VCALENDAR
VERSION:2.0
PRODID:-//Federació Catalana d&#039;Esports d&#039;Hivern - ECPv5.1.4//NONSGML v1.0//EN
CALSCALE:GREGORIAN
METHOD:PUBLISH
X-WR-CALNAME:Federació Catalana d&#039;Esports d&#039;Hivern
X-ORIGINAL-URL:https://www.fceh.cat
X-WR-CALDESC:Events for Federació Catalana d&#039;Esports d&#039;Hivern
BEGIN:VTIMEZONE
TZID:UTC
BEGIN:STANDARD
TZOFFSETFROM:+0000
TZOFFSETTO:+0000
TZNAME:UTC
DTSTART:20170101T000000
END:STANDARD
END:VTIMEZONE
BEGIN:VEVENT
DTSTART;VALUE=DATE:20170608
DTEND;VALUE=DATE:20170609
DTSTAMP:20260421T085613
CREATED:20170511T142744Z
LAST-MODIFIED:20170512T073152Z
UID:10601-1496880000-1496966399@www.fceh.cat
SUMMARY:LLIURAMENT DE PREMIS HONORÍFICS FCEH 2017
DESCRIPTION: \nEsportistes i Clubs guardonats \n 
URL:https://www.fceh.cat/esdeveniment/repartiment-de-premis-honorifics-fceh-2017/
LOCATION:CLUB NATACIÓ BARCELONA\, Passeig Joan de Borbó\, 93\, Barcelona\, Barcelona\, 08039\, Espanya
CATEGORIES:Corporatiu
ORGANIZER;CN="FCEH":MAILTO:info@fceh.cat
GEO:41.3710622;2.1879243
X-APPLE-STRUCTURED-LOCATION;VALUE=URI;X-ADDRESS=CLUB NATACIÓ BARCELONA Passeig Joan de Borbó 93 Barcelona Barcelona 08039 Espanya;X-APPLE-RADIUS=500;X-TITLE=Passeig Joan de Borbó\, 93:geo:2.1879243,41.3710622
END:VEVENT
END:VCALENDAR