BEGIN:VCALENDAR
VERSION:2.0
PRODID:-//Federació Catalana d&#039;Esports d&#039;Hivern - ECPv5.1.4//NONSGML v1.0//EN
CALSCALE:GREGORIAN
METHOD:PUBLISH
X-WR-CALNAME:Federació Catalana d&#039;Esports d&#039;Hivern
X-ORIGINAL-URL:https://www.fceh.cat
X-WR-CALDESC:Events for Federació Catalana d&#039;Esports d&#039;Hivern
BEGIN:VTIMEZONE
TZID:UTC
BEGIN:STANDARD
TZOFFSETFROM:+0000
TZOFFSETTO:+0000
TZNAME:UTC
DTSTART:20260101T000000
END:STANDARD
END:VTIMEZONE
BEGIN:VEVENT
DTSTART;VALUE=DATE:20260215
DTEND;VALUE=DATE:20260216
DTSTAMP:20260421T232244
CREATED:20251201T072843Z
LAST-MODIFIED:20251201T072843Z
UID:30135-1771113600-1771199999@www.fceh.cat
SUMMARY:TROFEU CAL JORDI -TROFEU VETERANS
DESCRIPTION: \n 
URL:https://www.fceh.cat/esdeveniment/trofeu-cal-jordi-trofeu-veterans-3/
LOCATION:SOLDEU\, Andorra
CATEGORIES:15a LLIGA CAT • AND MÀSTERS,Esports de neu,Esquí alpí
ORGANIZER;CN="ECA":MAILTO:esclan@andorra.ad
GEO:42.506285;1.521801
END:VEVENT
END:VCALENDAR