BEGIN:VCALENDAR
VERSION:2.0
PRODID:-//Federació Catalana d&#039;Esports d&#039;Hivern - ECPv5.1.4//NONSGML v1.0//EN
CALSCALE:GREGORIAN
METHOD:PUBLISH
X-WR-CALNAME:Federació Catalana d&#039;Esports d&#039;Hivern
X-ORIGINAL-URL:https://www.fceh.cat
X-WR-CALDESC:Events for Federació Catalana d&#039;Esports d&#039;Hivern
BEGIN:VTIMEZONE
TZID:UTC
BEGIN:STANDARD
TZOFFSETFROM:+0000
TZOFFSETTO:+0000
TZNAME:UTC
DTSTART:20260101T000000
END:STANDARD
END:VTIMEZONE
BEGIN:VEVENT
DTSTART;VALUE=DATE:20260315
DTEND;VALUE=DATE:20260316
DTSTAMP:20260421T135805
CREATED:20251202T085713Z
LAST-MODIFIED:20260310T080051Z
UID:30193-1773532800-1773619199@www.fceh.cat
SUMMARY:Trofeu ESPORTS SANT MORITZ
DESCRIPTION: \n 
URL:https://www.fceh.cat/esdeveniment/trofeu-esports-sant-moritz-3/
LOCATION:ARINSAL\, Andorra
ATTACH;FMTTYPE=image/jpeg:https://www.fceh.cat/wp-content/uploads/2025/12/WhatsApp-Image-2026-03-09-at-13.16.11.jpeg
GEO:42.506285;1.521801
END:VEVENT
END:VCALENDAR