BEGIN:VCALENDAR
VERSION:2.0
PRODID:-//Federació Catalana d&#039;Esports d&#039;Hivern - ECPv5.1.4//NONSGML v1.0//EN
CALSCALE:GREGORIAN
METHOD:PUBLISH
X-WR-CALNAME:Federació Catalana d&#039;Esports d&#039;Hivern
X-ORIGINAL-URL:https://www.fceh.cat
X-WR-CALDESC:Events for Federació Catalana d&#039;Esports d&#039;Hivern
BEGIN:VTIMEZONE
TZID:UTC
BEGIN:STANDARD
TZOFFSETFROM:+0000
TZOFFSETTO:+0000
TZNAME:UTC
DTSTART:20180101T000000
END:STANDARD
END:VTIMEZONE
BEGIN:VEVENT
DTSTART;VALUE=DATE:20180302
DTEND;VALUE=DATE:20180304
DTSTAMP:20260421T092149
CREATED:20171107T094707Z
LAST-MODIFIED:20180305T120532Z
UID:11352-1519948800-1520121599@www.fceh.cat
SUMMARY:WORLD CUP
DESCRIPTION: \nL’elit internacional de l’snowboard cross es reuneix a la Copa del Món de La Molina \n \n  \nLa Copa del Món SBX torna a catapultar d’èxit La Molina \n \n 
URL:https://www.fceh.cat/esdeveniment/world-cup-2/
CATEGORIES:Esports de neu,Surf de neu
ORGANIZER;CN="FGC":MAILTO:info@turismefgc.cat
END:VEVENT
END:VCALENDAR