BEGIN:VCALENDAR
VERSION:2.0
PRODID:-//Federació Catalana d&#039;Esports d&#039;Hivern - ECPv5.1.4//NONSGML v1.0//EN
CALSCALE:GREGORIAN
METHOD:PUBLISH
X-WR-CALNAME:Federació Catalana d&#039;Esports d&#039;Hivern
X-ORIGINAL-URL:https://www.fceh.cat
X-WR-CALDESC:Events for Federació Catalana d&#039;Esports d&#039;Hivern
BEGIN:VTIMEZONE
TZID:UTC
BEGIN:STANDARD
TZOFFSETFROM:+0000
TZOFFSETTO:+0000
TZNAME:UTC
DTSTART:20260101T000000
END:STANDARD
END:VTIMEZONE
BEGIN:VEVENT
DTSTART;VALUE=DATE:20260220
DTEND;VALUE=DATE:20260223
DTSTAMP:20260421T195944
CREATED:20251201T074735Z
LAST-MODIFIED:20251201T074735Z
UID:30152-1771545600-1771804799@www.fceh.cat
SUMMARY:WORLD CUP MASTERS
DESCRIPTION: \n 
URL:https://www.fceh.cat/esdeveniment/world-cup-masters-2/
LOCATION:BAQUEIRA BERET\, Lugar Afores\, 0 S N\, SALARDÚ\, LLEIDA\, 25598\, Espanya
CATEGORIES:ALTRES COMPETICIONS (COP ESP. CAMP. ESP O COMP. INT.),Esports de neu,Esquí alpí
ORGANIZER;CN="BAQUEIRA%20BERET":MAILTO:baqueira@baqueira.es
END:VEVENT
END:VCALENDAR