BEGIN:VCALENDAR
VERSION:2.0
PRODID:-//Federació Catalana d&#039;Esports d&#039;Hivern - ECPv5.1.4//NONSGML v1.0//EN
CALSCALE:GREGORIAN
METHOD:PUBLISH
X-WR-CALNAME:Federació Catalana d&#039;Esports d&#039;Hivern
X-ORIGINAL-URL:https://www.fceh.cat
X-WR-CALDESC:Events for Federació Catalana d&#039;Esports d&#039;Hivern
BEGIN:VTIMEZONE
TZID:UTC
BEGIN:STANDARD
TZOFFSETFROM:+0000
TZOFFSETTO:+0000
TZNAME:UTC
DTSTART:20170101T000000
END:STANDARD
END:VTIMEZONE
BEGIN:VEVENT
DTSTART;VALUE=DATE:20170304
DTEND;VALUE=DATE:20170306
DTSTAMP:20260421T090742
CREATED:20161220T091351Z
LAST-MODIFIED:20170308T122624Z
UID:7096-1488585600-1488758399@www.fceh.cat
SUMMARY:XI TROFEU VALL DEL LORD
DESCRIPTION: \nConvocatòria 11è Trofeu Vall de Lord \nNotícies relacionades:\nTot preparat a Port del Comte pel 2n Trofeu Piteus i el XI Trofeu Vall Lord \n \nDecidits els campions del 2n Trofeu Piteus i el XI Trofeu Vall Lord \n \n 
URL:https://www.fceh.cat/esdeveniment/xi-trofeu-vall-del-lord/
LOCATION:PORT DEL COMTE\, Carr. a Pistes\, s/n\, PORT DEL COMTE\, LLEIDA\, 25284\, Espanya
CATEGORIES:Esports de neu,Esquí alpí
ORGANIZER;CN="PC":MAILTO:club@ceportdelcomte.org
GEO:42.35574;1.4557343
X-APPLE-STRUCTURED-LOCATION;VALUE=URI;X-ADDRESS=PORT DEL COMTE Carr. a Pistes s/n PORT DEL COMTE LLEIDA 25284 Espanya;X-APPLE-RADIUS=500;X-TITLE=Carr. a Pistes\, s/n:geo:1.4557343,42.35574
END:VEVENT
END:VCALENDAR