BEGIN:VCALENDAR
VERSION:2.0
PRODID:-//Federació Catalana d&#039;Esports d&#039;Hivern - ECPv5.1.4//NONSGML v1.0//EN
CALSCALE:GREGORIAN
METHOD:PUBLISH
X-WR-CALNAME:Federació Catalana d&#039;Esports d&#039;Hivern
X-ORIGINAL-URL:https://www.fceh.cat
X-WR-CALDESC:Events for Federació Catalana d&#039;Esports d&#039;Hivern
BEGIN:VTIMEZONE
TZID:UTC
BEGIN:STANDARD
TZOFFSETFROM:+0000
TZOFFSETTO:+0000
TZNAME:UTC
DTSTART:20200101T000000
END:STANDARD
END:VTIMEZONE
BEGIN:VEVENT
DTSTART;VALUE=DATE:20200222
DTEND;VALUE=DATE:20200224
DTSTAMP:20260420T091858
CREATED:20190718T083759Z
LAST-MODIFIED:20200121T131057Z
UID:19645-1582329600-1582502399@www.fceh.cat
SUMMARY:COPA PUIGCERDÀ
DESCRIPTION: \n
URL:https://www.fceh.cat/esdeveniment/copa-puigcerda-3/
LOCATION:Puigcerdà Centre d’Esports d’Hivern\, Plaça de l'Ajuntament\, s/n \, PUIGCERDÀ\, GIRONA\, 17520\, Espanya
CATEGORIES:Esports de gel,Patinatge artístic
ORGANIZER;CN="CEPAP":MAILTO:patinatgeartisticpuigcerda@gmail.com
GEO:42.4312329;1.9270081
X-APPLE-STRUCTURED-LOCATION;VALUE=URI;X-ADDRESS=Puigcerdà Centre d’Esports d’Hivern Plaça de l'Ajuntament s/n  PUIGCERDÀ GIRONA 17520 Espanya;X-APPLE-RADIUS=500;X-TITLE=Plaça de l'Ajuntament\, s/n:geo:1.9270081,42.4312329
END:VEVENT
BEGIN:VEVENT
DTSTART;VALUE=DATE:20200222
DTEND;VALUE=DATE:20200224
DTSTAMP:20260420T091858
CREATED:20191106T083745Z
LAST-MODIFIED:20200207T085202Z
UID:20083-1582329600-1582502399@www.fceh.cat
SUMMARY:39è DERBY INTERNACIONAL CIT | CTS ESPAÑA CIT
DESCRIPTION: \n39è Derby Internacional CIT ALWC\nCampionat Espanya CIT · Copa España CIT\nMemorial Iu Vidal Bernad \nConvocatòria \n
URL:https://www.fceh.cat/esdeveniment/39e-derby-internacional-cit-cts-espana-cit/
LOCATION:La Molina\, Edifici Telecabina Alp 2500 s/n\, Alp\, Girona\, 17537\, Espanya
CATEGORIES:Esports de neu,Esquí alpí
ORGANIZER;CN="LMCE":MAILTO:secretaria@lamolinace.cat
END:VEVENT
BEGIN:VEVENT
DTSTART;VALUE=DATE:20200222
DTEND;VALUE=DATE:20200224
DTSTAMP:20260420T091858
CREATED:20191107T125557Z
LAST-MODIFIED:20200212T101201Z
UID:20139-1582329600-1582502399@www.fceh.cat
SUMMARY:14è TROFEU VALL DEL LORD
DESCRIPTION: \nInfo 14è Trofeu Vall del Lord \n
URL:https://www.fceh.cat/esdeveniment/14e-trofeu-vall-del-lord/
LOCATION:PORT DEL COMTE\, Carr. a Pistes\, s/n\, PORT DEL COMTE\, LLEIDA\, 25284\, Espanya
CATEGORIES:Esports de neu,Esquí alpí
ORGANIZER;CN="PC":MAILTO:club@ceportdelcomte.org
GEO:42.35574;1.4557343
X-APPLE-STRUCTURED-LOCATION;VALUE=URI;X-ADDRESS=PORT DEL COMTE Carr. a Pistes s/n PORT DEL COMTE LLEIDA 25284 Espanya;X-APPLE-RADIUS=500;X-TITLE=Carr. a Pistes\, s/n:geo:1.4557343,42.35574
END:VEVENT
BEGIN:VEVENT
DTSTART;VALUE=DATE:20200222
DTEND;VALUE=DATE:20200224
DTSTAMP:20260420T091858
CREATED:20191107T144445Z
LAST-MODIFIED:20200213T122421Z
UID:20175-1582329600-1582502399@www.fceh.cat
SUMMARY:CAMPIONAT DE CATALUNYA SX-SBX-TLX - Ajornada!!!!
DESCRIPTION: \n
URL:https://www.fceh.cat/esdeveniment/campionat-de-catalunya-sx-sbx-tlx/
LOCATION:La Molina\, Edifici Telecabina Alp 2500 s/n\, Alp\, Girona\, 17537\, Espanya
CATEGORIES:Esports de neu,Freeski,Surf de neu
ORGANIZER;CN="FCEH":MAILTO:info@fceh.cat
END:VEVENT
BEGIN:VEVENT
DTSTART;VALUE=DATE:20200223
DTEND;VALUE=DATE:20200224
DTSTAMP:20260420T091858
CREATED:20191107T121700Z
LAST-MODIFIED:20200212T101049Z
UID:20127-1582416000-1582502399@www.fceh.cat
SUMMARY:5è TROFEU PITEUS
DESCRIPTION: \nInfo 5è Trofeu Piteus U10 U12 \n
URL:https://www.fceh.cat/esdeveniment/5e-trofeu-piteus/
LOCATION:PORT DEL COMTE\, Carr. a Pistes\, s/n\, PORT DEL COMTE\, LLEIDA\, 25284\, Espanya
CATEGORIES:Esports de neu,Esquí alpí
ORGANIZER;CN="PC":MAILTO:club@ceportdelcomte.org
GEO:42.35574;1.4557343
X-APPLE-STRUCTURED-LOCATION;VALUE=URI;X-ADDRESS=PORT DEL COMTE Carr. a Pistes s/n PORT DEL COMTE LLEIDA 25284 Espanya;X-APPLE-RADIUS=500;X-TITLE=Carr. a Pistes\, s/n:geo:1.4557343,42.35574
END:VEVENT
END:VCALENDAR