BEGIN:VCALENDAR
VERSION:2.0
PRODID:-//Federació Catalana d&#039;Esports d&#039;Hivern - ECPv5.1.4//NONSGML v1.0//EN
CALSCALE:GREGORIAN
METHOD:PUBLISH
X-WR-CALNAME:Federació Catalana d&#039;Esports d&#039;Hivern
X-ORIGINAL-URL:https://www.fceh.cat
X-WR-CALDESC:Events for Federació Catalana d&#039;Esports d&#039;Hivern
BEGIN:VTIMEZONE
TZID:UTC
BEGIN:STANDARD
TZOFFSETFROM:+0000
TZOFFSETTO:+0000
TZNAME:UTC
DTSTART:20250101T000000
END:STANDARD
END:VTIMEZONE
BEGIN:VEVENT
DTSTART;VALUE=DATE:20250221
DTEND;VALUE=DATE:20250224
DTSTAMP:20260425T204852
CREATED:20241127T141406Z
LAST-MODIFIED:20241127T141406Z
UID:29187-1740096000-1740355199@www.fceh.cat
SUMMARY:WORLD CUP MASTERS
DESCRIPTION: \n
URL:https://www.fceh.cat/esdeveniment/world-cup-masters/
LOCATION:BAQUEIRA BERET\, Lugar Afores\, 0 S N\, SALARDÚ\, LLEIDA\, 25598\, Espanya
CATEGORIES:ALTRES COMPETICIONS (COP ESP. CAMP. ESP O COMP. INT.),Esports de neu,Esquí alpí
ORGANIZER;CN="RFEDI":MAILTO:rfedi@rfedi.es
END:VEVENT
BEGIN:VEVENT
DTSTART;VALUE=DATE:20250222
DTEND;VALUE=DATE:20250224
DTSTAMP:20260425T204852
CREATED:20241127T140954Z
LAST-MODIFIED:20241127T140954Z
UID:29183-1740182400-1740355199@www.fceh.cat
SUMMARY:19è TROFEU FRANCESC VILADOMAT FIS
DESCRIPTION: \n
URL:https://www.fceh.cat/esdeveniment/19e-trofeu-francesc-viladomat-fis/
LOCATION:Pas de la Casa\, Andorra
CATEGORIES:43a LLIGA CATALANA ABSOLUTA | U18 | U21 | CIT,Esports de neu,Esquí alpí
GEO:42.506285;1.521801
END:VEVENT
BEGIN:VEVENT
DTSTART;VALUE=DATE:20250222
DTEND;VALUE=DATE:20250224
DTSTAMP:20260425T204852
CREATED:20241127T141152Z
LAST-MODIFIED:20250127T063730Z
UID:29185-1740182400-1740355199@www.fceh.cat
SUMMARY:27è PISTA! PISTA! - AqC - Gran Premi ADAMO
DESCRIPTION: \n
URL:https://www.fceh.cat/esdeveniment/27e-pista-pista-aqc/
LOCATION:La Molina\, Edifici Telecabina Alp 2500 s/n\, Alp\, Girona\, 17537\, Espanya
CATEGORIES:CIRCUIT U10 | U12,CIRCUIT U10 | U12 RRTT GIRONA/BCN,Esports de neu,Esquí alpí
ORGANIZER;CN="LMCE":MAILTO:secretaria@lamolinace.cat
END:VEVENT
BEGIN:VEVENT
DTSTART;VALUE=DATE:20250222
DTEND;VALUE=DATE:20250224
DTSTAMP:20260425T204852
CREATED:20241128T072917Z
LAST-MODIFIED:20250214T105417Z
UID:29230-1740182400-1740355199@www.fceh.cat
SUMMARY:CAMPIONAT DE CATALUNYA ABSOLUT I INFANTIL ESQUÍ DE FONS
DESCRIPTION: \n  \nInfo Cts Cat Abs Fons \n
URL:https://www.fceh.cat/esdeveniment/campionat-de-catalunya-absolut-i-infantil-esqui-de-fons/
LOCATION:BAQUEIRA BERET\, Lugar Afores\, 0 S N\, SALARDÚ\, LLEIDA\, 25598\, Espanya
ORGANIZER;CN="FCEH":MAILTO:info@fceh.cat
END:VEVENT
BEGIN:VEVENT
DTSTART;VALUE=DATE:20250222
DTEND;VALUE=DATE:20250224
DTSTAMP:20260425T204852
CREATED:20250221T071222Z
LAST-MODIFIED:20250221T071222Z
UID:29532-1740182400-1740355199@www.fceh.cat
SUMMARY:COPA ESPAÑA MÚIXING I CANICRÒS
DESCRIPTION: \n
URL:https://www.fceh.cat/esdeveniment/copa-espana-muixing-i-canicros-2/
LOCATION:HOSTALRIC\, Raval\, 45\, LA SELVA\, GIRONA\, 17450\, Espanya
CATEGORIES:ALTRES COMPETICIONS (COP ESP. CAMP. ESP O COMP. INT.),ALTRES COMPETICIONS (COP ESP. CAMP. ESP O COMP. INT.),Canicross,Esports de tracció,Trineu amb gossos
ORGANIZER;CN="GOSESPORT":MAILTO:gosesport.cat@gmail.com
GEO:41.74589;2.64143
X-APPLE-STRUCTURED-LOCATION;VALUE=URI;X-ADDRESS=HOSTALRIC Raval 45 LA SELVA GIRONA 17450 Espanya;X-APPLE-RADIUS=500;X-TITLE=Raval\, 45:geo:2.64143,41.74589
END:VEVENT
BEGIN:VEVENT
DTSTART;VALUE=DATE:20250223
DTEND;VALUE=DATE:20250224
DTSTAMP:20260425T204852
CREATED:20241128T073534Z
LAST-MODIFIED:20250220T084446Z
UID:29236-1740268800-1740355199@www.fceh.cat
SUMMARY:OPEN BETULA - CAMPIONATS DE CATALUNYA P&P
DESCRIPTION: \n
URL:https://www.fceh.cat/esdeveniment/open-betula-campionats-de-catalunya-pp/
LOCATION:PORT AINE\, Estació de Muntanya Cota 2000\, RIALP\, LLEIDA\, 25594\, Espanya
CATEGORIES:CIRCUIT CATALÀ I FIS SB | FS,Esports de neu,Freeski,MINIFREESTYLERS | SNOWBOARD | FREESTYLE,Surf de neu
ORGANIZER;CN="FCEH":MAILTO:info@fceh.cat
GEO:42.435018;1.210856
X-APPLE-STRUCTURED-LOCATION;VALUE=URI;X-ADDRESS=PORT AINE Estació de Muntanya Cota 2000 RIALP LLEIDA 25594 Espanya;X-APPLE-RADIUS=500;X-TITLE=Estació de Muntanya Cota 2000:geo:1.210856,42.435018
END:VEVENT
END:VCALENDAR