BEGIN:VCALENDAR
VERSION:2.0
PRODID:-//Federació Catalana d&#039;Esports d&#039;Hivern - ECPv5.1.4//NONSGML v1.0//EN
CALSCALE:GREGORIAN
METHOD:PUBLISH
X-WR-CALNAME:Federació Catalana d&#039;Esports d&#039;Hivern
X-ORIGINAL-URL:https://www.fceh.cat
X-WR-CALDESC:Events for Federació Catalana d&#039;Esports d&#039;Hivern
BEGIN:VTIMEZONE
TZID:UTC
BEGIN:STANDARD
TZOFFSETFROM:+0000
TZOFFSETTO:+0000
TZNAME:UTC
DTSTART:20250101T000000
END:STANDARD
END:VTIMEZONE
BEGIN:VEVENT
DTSTART;VALUE=DATE:20250323
DTEND;VALUE=DATE:20250324
DTSTAMP:20260425T220357
CREATED:20241113T142210Z
LAST-MODIFIED:20250317T093513Z
UID:29073-1742688000-1742774399@www.fceh.cat
SUMMARY:1r PREMI CEAP MASTERS LA MOLINA - CAMPIONAT DE CATALUNYA SL
DESCRIPTION:  \n \nCopia Info 1r Premi CEAP Màsters \n  \n
URL:https://www.fceh.cat/esdeveniment/cursa-masters-ceap/
LOCATION:La Molina\, Edifici Telecabina Alp 2500 s/n\, Alp\, Girona\, 17537\, Espanya
CATEGORIES:15a LLIGA CAT • AND MÀSTERS,Esquí alpí
ORGANIZER;CN="FCEH":MAILTO:info@fceh.cat
END:VEVENT
END:VCALENDAR