BEGIN:VCALENDAR
VERSION:2.0
PRODID:-//Federació Catalana d&#039;Esports d&#039;Hivern - ECPv5.1.4//NONSGML v1.0//EN
CALSCALE:GREGORIAN
METHOD:PUBLISH
X-WR-CALNAME:Federació Catalana d&#039;Esports d&#039;Hivern
X-ORIGINAL-URL:https://www.fceh.cat
X-WR-CALDESC:Events for Federació Catalana d&#039;Esports d&#039;Hivern
BEGIN:VTIMEZONE
TZID:UTC
BEGIN:STANDARD
TZOFFSETFROM:+0000
TZOFFSETTO:+0000
TZNAME:UTC
DTSTART:20250101T000000
END:STANDARD
END:VTIMEZONE
BEGIN:VEVENT
DTSTART;VALUE=DATE:20250330
DTEND;VALUE=DATE:20250331
DTSTAMP:20260425T111107
CREATED:20241127T141709Z
LAST-MODIFIED:20250326T124156Z
UID:29191-1743292800-1743379199@www.fceh.cat
SUMMARY:FINAL INTERCLUBS - CAMPIONAT CATALUNYA DPD
DESCRIPTION: \n  \nInfo Final Interclubs \n
URL:https://www.fceh.cat/esdeveniment/final-interclubs-campionat-catalunya-dpd/
LOCATION:Pas de la Casa\, Andorra
CATEGORIES:33è CIRCUIT INTERCLUBS,Esports de neu,Esquí alpí
GEO:42.506285;1.521801
END:VEVENT
BEGIN:VEVENT
DTSTART;VALUE=DATE:20250330
DTEND;VALUE=DATE:20250331
DTSTAMP:20260425T111107
CREATED:20241127T143436Z
LAST-MODIFIED:20250326T124123Z
UID:29209-1743292800-1743379199@www.fceh.cat
SUMMARY:24è TROFEU MARMOTA
DESCRIPTION:COMUNICAT OFICIAL – CANVI DE DATA DEL TROFEU MARMOTA \nDegut a la previsió meteorològica adversa per al dissabte 29 de març\, l’organització del Trofeu Marmota ha decidit ajornar la cursa i traslladar-la al diumenge 30 de març. \nAquesta decisió s’ha pres amb l’objectiu de garantir la seguretat i el bon desenvolupament de l’esdeveniment per a tots els participants i assistents. \nAgraïm la comprensió de tots i esperem veure-us diumenge per gaudir junts d’una gran jornada esportiva! Per a qualsevol dubte o informació addicional\, podeu contactar amb l’organització a través dels canals oficials. \nGràcies per la vostra col·laboració! \nOrganització del Trofeu Marmota \n \n
URL:https://www.fceh.cat/esdeveniment/24e-trofeu-marmota/
LOCATION:VALLTER 2000\, Pla de Morens\, s/n\, SETCASES\, GIRONA\, 17869\, Espanya
CATEGORIES:CIRCUIT U10 | U12,CIRCUIT U10 | U12 RRTT GIRONA/BCN,Esports de neu,Esquí alpí
ORGANIZER;CN="SCC":MAILTO:secretaria@skiclubcamprodon.org
END:VEVENT
BEGIN:VEVENT
DTSTART;VALUE=DATE:20250330
DTEND;VALUE=DATE:20250331
DTSTAMP:20260425T111107
CREATED:20250311T125029Z
LAST-MODIFIED:20250312T152128Z
UID:29612-1743292800-1743379199@www.fceh.cat
SUMMARY:Acte Cloenda Temporada 24-25 de Múixing i Canicròs
DESCRIPTION: \nL’acte tindrà lloc el dia 30 de març de 2025 a l’estació d’esquí i muntanya de Rasos de Peguera al Berguedà. \nS’anirà penjant informació a través del canal de WhatsApp: \nhttps://chat.whatsapp.com/IcOQ8oeMT3MC55S56kLRXN \n
URL:https://www.fceh.cat/esdeveniment/acte-cloenda-temporada-24-25-de-muixing-i-canicros/
LOCATION:ESTACIÓ D’ESQUÍ I MUNTANYA RASOS DE PEGUERA\, Apartado de correos: 41\, Berga\, Barcelona\, 08600
CATEGORIES:19a LLIGA CATALANA CANICRÒS,31a LLIGA CATALANA DE MÚIXING,Canicross,Esports de tracció,Trineu amb gossos
ORGANIZER;CN="FCEH":MAILTO:info@fceh.cat
END:VEVENT
END:VCALENDAR